BEGIN:VCALENDAR
VERSION:2.0
PRODID:LeuvenLanguageBuddies
BEGIN:VEVENT
UID:2531bc7e-1dde-49f7-b8ea-06f05fed9379@example.com
DTSTAMP:20260424T200000
ORGANIZER;CN=Leuven Language Buddies:https://languagebuddies.be
DTSTART:20260424T200000
DTEND:20260424T230000
TZID:CEST
SUMMARY:French [Français] Practice Meet-Up: Conversation Table
END:VEVENT
END:VCALENDAR