BEGIN:VCALENDAR
VERSION:2.0
PRODID:LeuvenLanguageBuddies
BEGIN:VEVENT
UID:54dfce33-1358-43ab-80ac-8311e18c5ab0@example.com
DTSTAMP:20260424T200000
ORGANIZER;CN=Leuven Language Buddies:https://languagebuddies.be
DTSTART:20260424T200000
DTEND:20260424T220000
TZID:CEST
SUMMARY:English Conversation Table
END:VEVENT
END:VCALENDAR