BEGIN:VCALENDAR
VERSION:2.0
PRODID:LeuvenLanguageBuddies
BEGIN:VEVENT
UID:c642ac88-abc4-4ab1-9f41-17f6bb894f93@example.com
DTSTAMP:20260421T200000
ORGANIZER;CN=Leuven Language Buddies:https://languagebuddies.be
DTSTART:20260421T200000
DTEND:20260421T220000
TZID:CEST
SUMMARY:Spanish [Español] Practice Meet-Up: Conversation Table
END:VEVENT
END:VCALENDAR